BEGIN:VCALENDAR
VERSION:2.0
PRODID:-//Professional Women&#039;s Alliance - ECPv6.14.2//NONSGML v1.0//EN
CALSCALE:GREGORIAN
METHOD:PUBLISH
X-WR-CALNAME:Professional Women&#039;s Alliance
X-ORIGINAL-URL:https://stlpwa.org
X-WR-CALDESC:Events for Professional Women&#039;s Alliance
REFRESH-INTERVAL;VALUE=DURATION:PT1H
X-Robots-Tag:noindex
X-PUBLISHED-TTL:PT1H
BEGIN:VTIMEZONE
TZID:America/Chicago
BEGIN:DAYLIGHT
TZOFFSETFROM:-0600
TZOFFSETTO:-0500
TZNAME:CDT
DTSTART:20240310T080000
END:DAYLIGHT
BEGIN:STANDARD
TZOFFSETFROM:-0500
TZOFFSETTO:-0600
TZNAME:CST
DTSTART:20241103T070000
END:STANDARD
END:VTIMEZONE
BEGIN:VEVENT
DTSTART;TZID=America/Chicago:20240307T113000
DTEND;TZID=America/Chicago:20240307T123000
DTSTAMP:20260421T084142
CREATED:20240219T224831Z
LAST-MODIFIED:20240219T224831Z
UID:17850-1709811000-1709814600@stlpwa.org
SUMMARY:Virtual Training
DESCRIPTION:Unlock Your Future Self: Ditching Drama for Sustainable Success\n\nDr. Lynnea Brumbaugh\, Ph.D.\nFounder and CEO\nThe LeadershipOS \n  \nAre you wasting precious time replaying conversations in your head you wish had gone differently? Does office gossip leave you on edge and worried about who you can trust? In a world increasingly driven by reactivity and noise\, we can unlock lasting success only by ditching drama and embracing present-moment self-awareness. This interactive session peels back the layers: What is present-moment awareness and how can it empower you to navigate drama triggers with ease?  Leave this training equipped with actionable tools to shift out of drama fast\, empowering you to thrive in any situation. \nKey Takeaways: \n\nLearn to shift out of drama faster than you think\, saving time and increasing your energy so you can get home fast and be awesome for your family.\nDiscover how your everyday language choices shape your mindset and keep you playing small–so you can feel more confident and future-proof your success.\nLeave with tools to cultivate authentic responses\, even in challenging situations\, so you can be more focused at work\, more engaged at home\, and more peaceful in your life.\n\n  \nMore about Lynnea: \nDr. Lynnea Brumbaugh\, Ph.D.\, a trusted advisor to executives\, helps teams solve problems without emotional turbulence. \nThree early brushes with mortality and two international adoptions honed Dr. Brumbaugh’s passion for cultivating self-awareness through The Enneagram and energy practices. Her personal transformation fueled her passion for equipping teams and empowering leaders to develop a foundational presence for effective communication\, increased productivity\, and improved decision-making. \nRecognized by global organizations and local business leaders as a skilled trainer and highly intuitive coach\, Dr. Brumbaugh empowers teams to thrive in a dynamic world. Her clients include EOS\, Metlife\, Agile Coach\, and Fuel to Fire\, among many others. \nPlease register HERE to receive the Zoom link \n 
URL:https://stlpwa.org/event/virtual-training-2/
LOCATION:MO
CATEGORIES:Virtual Event
END:VEVENT
END:VCALENDAR