BEGIN:VCALENDAR
VERSION:2.0
PRODID:-//Professional Women&#039;s Alliance - ECPv6.14.2//NONSGML v1.0//EN
CALSCALE:GREGORIAN
METHOD:PUBLISH
X-ORIGINAL-URL:https://stlpwa.org
X-WR-CALDESC:Events for Professional Women&#039;s Alliance
REFRESH-INTERVAL;VALUE=DURATION:PT1H
X-Robots-Tag:noindex
X-PUBLISHED-TTL:PT1H
BEGIN:VTIMEZONE
TZID:America/Chicago
BEGIN:DAYLIGHT
TZOFFSETFROM:-0600
TZOFFSETTO:-0500
TZNAME:CDT
DTSTART:20240310T080000
END:DAYLIGHT
BEGIN:STANDARD
TZOFFSETFROM:-0500
TZOFFSETTO:-0600
TZNAME:CST
DTSTART:20241103T070000
END:STANDARD
END:VTIMEZONE
BEGIN:VEVENT
DTSTART;TZID=America/Chicago:20241003T113000
DTEND;TZID=America/Chicago:20241003T123000
DTSTAMP:20260421T070446
CREATED:20231220T151511Z
LAST-MODIFIED:20240809T000408Z
UID:17369-1727955000-1727958600@stlpwa.org
SUMMARY:October 2024 Virtual Training
DESCRIPTION:Time Management Mastery – Own Your Day\n\n\n\n\n\n\n\nTina Asher\nCareer Coach / Author / Speaker\nBuild U Up Consulting\n\n\n\n\nTime Management is the art of efficiently organizing and prioritizing tasks within the limited hours of the day. Optimize productivity by setting clear goals\, creating schedules\, and eliminating distractions to make the most of your time. Effective time management allows for a balanced approach to work\, leisure\, and personal well-being\, ultimately leading to increased efficiency and reduced stress. \n  \nMore about Tina: \nTina Asher works with high-achieving leaders\, business owners and professionals to grow their businesses. She develops top-notch leaders\, to create more revenue\, and align teams that are engaged and productive. Her company Build U Up Consulting focuses on helping you discover a career you love. Tina has helped countless individuals get paid what they’re worth and discover work that brings out their best life. For three decades\, she held leadership positions in senior management\, sales\, marketing\, and operations. Tina has a passion for understanding the uniqueness and differences in each of us and how differences in generations are impacting our current workforce. Tina is a business owner\, author\, speaker\, and career coach who is certified in multiple sciences that measure Behaviors\, Motivators\, Emotional Quotient (EQ)\, Competencies (Soft Skills)\, and Business Acumen with one of the world’s leading research-based\, validated assessment companies. \nPlease register HERE to receive the Zoom link
URL:https://stlpwa.org/event/virtual-training-6/
LOCATION:MO
END:VEVENT
BEGIN:VEVENT
DTSTART;TZID=America/Chicago:20241009T110000
DTEND;TZID=America/Chicago:20241009T130000
DTSTAMP:20260421T070446
CREATED:20231220T152342Z
LAST-MODIFIED:20240928T182926Z
UID:17376-1728471600-1728478800@stlpwa.org
SUMMARY:Signature Speaker Series Networking Luncheon
DESCRIPTION:Open Your Umbrella:\nA Guide to Building Your Personal Brand\n\n\n\n\n\nMonique Bynum\nOwner\nBynum Consulting\n\n\n\n\nWithout a doubt\, the corporate landscape and business ownership are highly competitive. Your personal brand is your umbrella which provides you both protection and visibility. During our time together\, we’ll explore practical strategies to define\, build\, and expand your personal brand\, ensuring you stand out and thrive in any environment. Let’s open YOUR UMBRELLA and unlock the full potential of your professional presence. \nKey Learnings: \n\nDefine Your Personal Brand\nExpand Your Reach\nStand Out in a Sea of Umbrellas\n\n  \nAgenda: \n11:00 am – 12:15 pm – Networking\, Welcome\, and Lunch\n12:15 pm – 1:00 pm – Presentation and Final Announcements \n  \nMore about Monique: \nMonique Bynum is a dynamic and passionate leader\, renowned for her expertise in philanthropy\, donor relations\, fundraising\, and community engagement. Currently serving as the Community Investor/Education Relations professional at The Boeing Company\, she manages corporate social responsibility strategies\, focusing on grants\, sponsorships\, volunteer efforts\, and K-12 STEM education outreach. \nMonique’s educational background includes a bachelor’s degree in communications from Rockhurst University and a master’s in public administration from Syracuse University. Her professional journey is marked by over a decade of leadership roles in the non-profit sector\, where she specialized in donor relations and development\, establishing herself as a key figure in philanthropic initiatives. \nRecognized for her significant contributions\, Monique was honored in 2023 by St. Louis Magazine as one of the ’50 People Working Toward Solutions in St. Louis’ and included in the ’75 Women Who Make St. Louis Great’. Her influence was further celebrated with her induction into the Delux Power 100 2023 cohort\, highlighting her as one of the most influential figures in the region. \nWith her trailblazing leadership and heartfelt commitment to social change\, Monique Bynum stands as a shining example of how passion\, expertise\, and advocacy can intertwine to make a substantial and lasting impact in the world. \n\n\n\nYou have the choice of:  \nChicken Parmesan\nGrilled Sirloin\nPasta with Meatballs \nYour meal will also include:\n \nClam Chowder\nCannoli \ncoffee\, tea\, water\, and soft drinks\n \nPlease advise us of any food allergies at checkout.  Thank you. \n\n\n\nDisclaimer:  Photos and videos of all members\, guests\, speakers\, and affiliates may be used in any and all publications and materials promoted by PWA. \nThe Professional Women’s Alliance is an organization of women supporting one another for personal and professional development.  We strive to keep the annual membership cost affordable to encourage participation.  We also believe in “try it before you buy it” which is the reason we offer potential members the opportunity to attend two events before deciding to join.
URL:https://stlpwa.org/event/signature-speaker-series-7/
LOCATION:Missouri Athletic Club – West\, 1777 Des Peres Rd\, Des Peres\, MO\, 63131
CATEGORIES:Signature Series Event
END:VEVENT
END:VCALENDAR