BEGIN:VCALENDAR
VERSION:2.0
PRODID:-//Professional Women&#039;s Alliance - ECPv6.14.2//NONSGML v1.0//EN
CALSCALE:GREGORIAN
METHOD:PUBLISH
X-WR-CALNAME:Professional Women&#039;s Alliance
X-ORIGINAL-URL:https://stlpwa.org
X-WR-CALDESC:Events for Professional Women&#039;s Alliance
REFRESH-INTERVAL;VALUE=DURATION:PT1H
X-Robots-Tag:noindex
X-PUBLISHED-TTL:PT1H
BEGIN:VTIMEZONE
TZID:America/Chicago
BEGIN:DAYLIGHT
TZOFFSETFROM:-0600
TZOFFSETTO:-0500
TZNAME:CDT
DTSTART:20240310T080000
END:DAYLIGHT
BEGIN:STANDARD
TZOFFSETFROM:-0500
TZOFFSETTO:-0600
TZNAME:CST
DTSTART:20241103T070000
END:STANDARD
END:VTIMEZONE
BEGIN:VEVENT
DTSTART;TZID=America/Chicago:20241205T113000
DTEND;TZID=America/Chicago:20241205T123000
DTSTAMP:20260421T085656
CREATED:20241015T185428Z
LAST-MODIFIED:20241112T192733Z
UID:18783-1733398200-1733401800@stlpwa.org
SUMMARY:December 2024 Virtual Training
DESCRIPTION:Empowering Success:\nNavigating AI and Automation to Drive Business Outcomes\n\n\n\n\n\n\n\nKatie Holyfield\nTechnology Advisor\, Customer Experience Practice Leader\nBeaconCTX\n\n\n\n\nAre you ready to take your business to the next level? Join us for an exclusive virtual training session to harness technology’s power responsibly! \nIn this power-packed 50-minute session\, you’ll unlock the potential of Artificial Intelligence (AI) and automation\, professionally and personally. Discover how these cutting-edge technologies can drive growth\, efficiency\, and innovation – all while maintaining the security and integrity of your operations. \nKEY TAKEAWAYS \n\nDemystify AI and Automation: Understand these technologies in clear\, practical terms.\nUnlock New Opportunities: Learn how AI and automation can solve real business challenges.\nSecure Your Success: Master the art of implementing these technologies safely and responsibly.\n\nMore about Katie: \nKatie Holyfield brings 27 years of rich experience in the technology industry\, where she has acquired a wealth of knowledge and expertise. She specializes in contact center technologies and has expertise in the healthcare industry. Katie’s passion lies in identifying the most suitable technology solutions for clients\, delivering real value\, and achieving tangible results. \nKatie is an enthusiastic Toastmasters International member and has been a member of PWA since August 2024. She also serves on the advisory board for Lindenwood University’s Women in Leadership program. \nKatie’s professional journey includes notable roles with industry-leading organizations\, including Qualtrics\, RingCentral\, NICE\, ConvergeOne\, and AT&T. \nIn her free time\, Katie enjoys teaching fitness classes\, sharing her holistic wellness and nutrition knowledge\, facilitating a mastermind group for high-performing neurodivergent women\, and spending quality time with her family—her husband\, two children\, and their pit bull. Additionally\, Katie has authored a personal development book slated for a 2025 release. \nPlease register HERE to receive the Zoom link
URL:https://stlpwa.org/event/december-2024-virtual-training/
LOCATION:MO
CATEGORIES:Virtual Event
END:VEVENT
BEGIN:VEVENT
DTSTART;TZID=America/Chicago:20241211T170000
DTEND;TZID=America/Chicago:20241211T200000
DTSTAMP:20260421T085657
CREATED:20231220T153018Z
LAST-MODIFIED:20241107T041806Z
UID:17383-1733936400-1733947200@stlpwa.org
SUMMARY:Holiday Party & Silent Night Auction
DESCRIPTION:Disclaimer:  Photos and videos of all members\, guests\, speakers\, and affiliates may be used in any and all publications and materials promoted by PWA. \nThe Professional Women’s Alliance is an organization of women supporting one another for personal and professional development.  We strive to keep the annual membership cost affordable to encourage participation.  We also believe in “try it before you buy it” which is the reason we offer potential members the opportunity to attend two events before deciding to join.
URL:https://stlpwa.org/event/holiday-party-silent-night-auction/
LOCATION:Missouri Athletic Club – West\, 1777 Des Peres Rd\, Des Peres\, MO\, 63131
CATEGORIES:Holiday Party
END:VEVENT
END:VCALENDAR