BEGIN:VCALENDAR
VERSION:2.0
PRODID:-//Professional Women&#039;s Alliance - ECPv6.14.2//NONSGML v1.0//EN
CALSCALE:GREGORIAN
METHOD:PUBLISH
X-ORIGINAL-URL:https://stlpwa.org
X-WR-CALDESC:Events for Professional Women&#039;s Alliance
REFRESH-INTERVAL;VALUE=DURATION:PT1H
X-Robots-Tag:noindex
X-PUBLISHED-TTL:PT1H
BEGIN:VTIMEZONE
TZID:America/Chicago
BEGIN:DAYLIGHT
TZOFFSETFROM:-0600
TZOFFSETTO:-0500
TZNAME:CDT
DTSTART:20260308T080000
END:DAYLIGHT
BEGIN:STANDARD
TZOFFSETFROM:-0500
TZOFFSETTO:-0600
TZNAME:CST
DTSTART:20261101T070000
END:STANDARD
END:VTIMEZONE
BEGIN:VEVENT
DTSTART;TZID=America/Chicago:20260311T173000
DTEND;TZID=America/Chicago:20260311T200000
DTSTAMP:20260424T052525
CREATED:20260218T182819Z
LAST-MODIFIED:20260218T182819Z
UID:22339-1773250200-1773259200@stlpwa.org
SUMMARY:PWA is Turning 40!
DESCRIPTION:🎉 PWA is Turning 40! 🎉\n \nJoin us on March 11 from 5:30–8 PM as we celebrate four decades of connection\, leadership\, and impact. \nOur theme? \n“It’s Our Birthday!” — and you’re invited to the party. \nEnjoy: \n🥂 Hors d’oeuvres + one drink coupon \n📸 A fun photo wall \n🤝 Interactive networking activities \n🎁 A chance to win a Kate Spade purse and wallet (every attendee gets a drawing ticket!) \n  \nTickets:Early Bird – $10 until 2/25/26Regular – $15At the Door – $20 \nThink you know PWA? Think again. This celebration marks not just 40 years of history\, but an exciting future ahead. \nCome reconnect. Come celebrate. Come be part of what’s next.
URL:https://stlpwa.org/event/pwa-is-turning-40/
LOCATION:Forest Hills Country Club\, 36 Forest Club Drive\, Chesterfield\, MO\, 63005
END:VEVENT
END:VCALENDAR