BEGIN:VCALENDAR
VERSION:2.0
PRODID:-//Professional Women&#039;s Alliance - ECPv6.14.2//NONSGML v1.0//EN
CALSCALE:GREGORIAN
METHOD:PUBLISH
X-ORIGINAL-URL:https://stlpwa.org
X-WR-CALDESC:Events for Professional Women&#039;s Alliance
REFRESH-INTERVAL;VALUE=DURATION:PT1H
X-Robots-Tag:noindex
X-PUBLISHED-TTL:PT1H
BEGIN:VTIMEZONE
TZID:America/Chicago
BEGIN:DAYLIGHT
TZOFFSETFROM:-0600
TZOFFSETTO:-0500
TZNAME:CDT
DTSTART:20260308T080000
END:DAYLIGHT
BEGIN:STANDARD
TZOFFSETFROM:-0500
TZOFFSETTO:-0600
TZNAME:CST
DTSTART:20261101T070000
END:STANDARD
END:VTIMEZONE
BEGIN:VEVENT
DTSTART;TZID=America/Chicago:20260501T173000
DTEND;TZID=America/Chicago:20260501T213000
DTSTAMP:20260421T090720
CREATED:20260319T171227Z
LAST-MODIFIED:20260319T171325Z
UID:22475-1777656600-1777671000@stlpwa.org
SUMMARY:Murder Mystery Dinner
DESCRIPTION:
URL:https://stlpwa.org/event/murder-mystery-dinner/
LOCATION:Syberg’s on Dorsett – Market Room\, 2430 Old Dorsett Rd\, Maryland Heights\, MO\, 63043
END:VEVENT
BEGIN:VEVENT
DTSTART;VALUE=DATE:20260505
DTEND;VALUE=DATE:20260506
DTSTAMP:20260421T090720
CREATED:20260319T175926Z
LAST-MODIFIED:20260319T175926Z
UID:22481-1777939200-1778025599@stlpwa.org
SUMMARY:2026 PWA Golf League
DESCRIPTION:
URL:https://stlpwa.org/event/2026-pwa-golf-league/
LOCATION:Forest Park Highlands\, 5163 Clayton Avenue\, St. Louis\, MO\, 63110
CATEGORIES:Golf League
END:VEVENT
END:VCALENDAR